BEGIN:VCALENDAR
VERSION:2.0
PRODID:-//ChamberMaster//Event Calendar 2.0//EN
METHOD:PUBLISH
X-PUBLISHED-TTL:P3D
REFRESH-INTERVAL:P3D
CALSCALE:GREGORIAN
BEGIN:VEVENT
DTSTART:20260526T163000Z
DTEND:20260526T180000Z
X-MICROSOFT-CDO-ALLDAYEVENT:FALSE
SUMMARY:WIN on the West Side Inaugural Lunch
DESCRIPTION:Join us for the first meeting of (Women In NARI) WIN on the West Side. This is an opportunity to meet one another\, network and provide input on the future of the group.\n\n\n\nEmily is generously providing lunch for everyone to welcome WIN on the West Side.\n\n\n\nMembers and Non-Members are welcome to attend.
X-ALT-DESC;FMTTYPE=text/html:Join us for the first meeting of (Women In NARI) WIN on the West Side. This is an opportunity to meet one another\, network and provide input on the future of the group.<br />\n<br />\nEmily is generously providing lunch for everyone to welcome WIN on the West Side.<br />\n<br />\nMembers and Non-Members are welcome to attend.
LOCATION:Emily Frame's Home 6 Shady Oaks Ct Trophy Club\, TX 76262
UID:e.9473.1572
SEQUENCE:3
DTSTAMP:20260421T102954Z
URL:https://business.narintx.org/events/details/win-on-the-west-side-inaugural-lunch-1572
END:VEVENT

END:VCALENDAR
